Workbook

Sheet Main_Data
A1: Company Name | B1: Hydrogenics Corporation
A2: Stock Ticker Symbol: | B2: HYGS
A3: U.S. Stock Exchange: | B3: NASAQ
A4: Statement Year-end Dates: | B4: 41639 | C4: 41274
A5: Financial Reports Rounded to: | B5: Thousands
A7: Supplemental Ratio Requirements: | B7: 2013 | C7: 2012
A8: Rent expense (in thousands): | B8: 845 | C8: 906
A9: Dividends per share:
A10: End of year stock price (adjusted for splits): | B10: 19.15 | C10: 6.77
A12: Check Figures:
A13: Balance Sheet
A14: Current Assets: | B14: 31649 | C14: 34607
A15: Total Assets: | B15: 40070 | C15: 41877
A16: Current Liabilities: | B16: 22528 | C16: 26054
A17: Total Stockholder's Equity: | B17: 6161 | C17: 4307
A19: Income Statement
A20: Gross Profit: | B20: 12061 | C20: 5249
A21: Opertaing Profit: | B21: -6783 | C21: -12225
A22: Net Profit: | B22: -8908 | C22: -12797
A24: Cash Flow
A25: Net Flows from Operations: | B25: -9197 | C25: -1163
A26: Net Flows from Investing Activity: | B26: -971 | C26: -400
A27: Net Flows from Financing Activity: | B27: 8669 | C27: 6491

Sheet Balance_Sheet
A1: Hydrogenics Corporation (HYGS/NASDAQ)
A2: Annual Consolidated Balance Sheet
A3: Amounts Rounded to: Thousands
B5: 41639 | C5: 41274 | D5: Variance
A6: ASSETS:
A7: Current Assets:
A8: Cash and cash equivalents | B8: 11823 | C8: 13020 | D8: =C8-B8 -> 1197 | E8: Favorable
A9: Short-term investments
A10: Total cash and short term investments | B10: =SUM(B8:B9) -> 11823 | C10: =SUM(C8:C9) -> 13020 | D10: =C10-B10 -> 1197 | E10: Favorable
A11: Accounts receivables, net | B11: 4725 | C11: 5024 | D11: =C11-B11 -> 299 | E11: Favorable
A12: Inventories, net | B12: 12821 | C12: 11848 | D12: =C12-B12 -> -973 | E12: Unfavorable
A13: Current deffered taxes
A14: Other current assets | B14: 2280 | C14: 4715 | D14: =C14-B14 -> 2435 | E14: Favorable
A15: Total current assets | B15: =SUM(B10:B14) -> 31649 | C15: =SUM(C10:C14) -> 34607 | D15: =C15-B15 -> 2958 | E15: Favorable
A17: Property, plant, and equipment | B17: 11888 | C17: 10769 | D17: =C17-B17 -> -1119 | E17: Unfavorable
A18: Less: accumulated depreciation | B18: 10204 | C18: 9370 | D18: =C18-B18 -> -834 | E18: Favorable
A19: Net property, plant, and equipment | B19: =B17-B18 -> 1684 | C19: =C17-C18 -> 1399 | D19: =C19-B19 -> -285 | E19: Unfavorable
A21: Long-term investments:
A22: Goodwill, net | B22: 5248 | C22: 5021 | D22: =C22-B22 -> -227 | E22: Unfavorable
A23: Other intangibles, net | B23: 100 | C23: 107 | D23: =C23-B23 -> 7 | E23: Favorable
A24: Other deferred taxes
A25: Other assets | B25: 1389 | C25: 743 | D25: =C25-B25 -> -646 | E25: Unfavorable
A26: Total assets | B26: =B15+B19+SUM(B22:B25) -> 40070 | C26: =C15+C19+SUM(C22:C25) -> 41877 | D26: =C26-B26 -> 1807 | E26: Favorable
A28: LIABILITIES
A29: Current Liabilities:
A30: Accounts payable | B30: 3115 | C30: 5285 | D30: =C30-B30 -> 2170 | E30: Unfavorable
A31: Short-term debt
A32: Current portion of long-term debt
A33: Accrued liabilities | B33: 5556 | C33: 3162 | D33: =C33-B33 -> -2394 | E33: Favorable
A34: Income taxes payable
A35: Other current liabilities | B35: 13857 | C35: 17607 | D35: =C35-B35 -> 3750 | E35: Unfavorable
A36: Total current liabilities | B36: =SUM(B30:B35) -> 22528 | C36: =SUM(C30:C35) -> 26054 | D36: =C36-B36 -> 3526 | E36: Unfavorable
A38: Long-term debt | B38: 2260 | C38: 1288 | D38: =C38-B38 -> -972 | E38: Favorable
A39: Deferred income taxes payable
A40: Other deferred liabilities | B40: 7305 | C40: 8576 | D40: =C40-B40 -> 1271 | E40: Unfavorable
A41: Other liabilities | B41: 1816 | C41: 1652 | D41: =C41-B41 -> -164 | E41: Favorable
A42: Total liabilities | B42: =B36+SUM(B38:B41) -> 33909 | C42: =C36+SUM(C38:C41) -> 37570 | D42: =C42-B42 -> 3661 | E42: Unfavorable
A44: Minority interest
A46: STOCKHOLDERS' EQUITY
A47: Preffered stock | B47: 351761 | C47: 341508 | D47: =C47-B47 -> -10253 | E47: Unfavorable
...

Sheet Ratio_Analysis
B1: Profitability Ratios
C2: 2013 | D2: 2012 | E2: Variance
B3: Return on Assets | C3: =Main_Data!B22/Main_Data!B15 -> -0.22231096 | D3: =Main_Data!C22/Main_Data!C15 -> -0.3055854 | E3: =D3-C3 -> -0.083274449 | F3: Unfavorable
B4: Return on Equity | C4: =Main_Data!B22/Main_Data!B17 -> -1.4458692 | D4: =Main_Data!C22/Main_Data!C17 -> -2.9712097 | E4: =D4-C4 -> -1.5253405 | F4: Unfavorable
B6: Liquidity Ratios
C7: 2013 | D7: 2012 | E7: Variance
B8: Current Ratio | C8: =Main_Data!B14/Main_Data!B16 -> 1.4048739 | D8: =Main_Data!C14/Main_Data!C16 -> 1.3282797 | E8: =D8-C8 -> -0.076594208 | F8: Unfavorable
B9: Quick Ratio | C9: =(Main_Data!B14-Balance_Sheet!B12)/Main_Data!B16 -> 0.83575994 | D9: =(Main_Data!C14-Balance_Sheet!C12)/Main_Data!C16 -> 0.8735319 | E9: =D9-C9 -> 0.037771952 | F9: Favorable
B11: Leverage Ratios
C12: 2013 | D12: 2012 | E12: Variance
B13: Debt Ratio | C13: =Balance_Sheet!B42/Balance_Sheet!B26 -> 0.84624407 | D13: =Balance_Sheet!C42/Balance_Sheet!C26 -> 0.89715118 | E13: =D13-C13 -> 0.050907108 | F13: Unfavorable
B14: Debt to Equity Ratio | C14: =Balance_Sheet!B38/Balance_Sheet!B52 -> 0.36682357 | D14: =Balance_Sheet!C38/Balance_Sheet!C52 -> 0.29904806 | E14: =D14-C14 -> -0.067775506 | F14: Favorable
